BEGIN:VCALENDAR
VERSION:2.0
PRODID:-//Grèce-sur-Seine - Η Ελλάδα του Σηκουάνα - ECPv6.15.20//NONSGML v1.0//EN
CALSCALE:GREGORIAN
METHOD:PUBLISH
X-ORIGINAL-URL:https://www.grecesurseine.fr
X-WR-CALDESC:Évènements pour Grèce-sur-Seine - Η Ελλάδα του Σηκουάνα
REFRESH-INTERVAL;VALUE=DURATION:PT1H
X-Robots-Tag:noindex
X-PUBLISHED-TTL:PT1H
BEGIN:VTIMEZONE
TZID:Europe/Paris
BEGIN:DAYLIGHT
TZOFFSETFROM:+0100
TZOFFSETTO:+0200
TZNAME:CEST
DTSTART:20230326T010000
END:DAYLIGHT
BEGIN:STANDARD
TZOFFSETFROM:+0200
TZOFFSETTO:+0100
TZNAME:CET
DTSTART:20231029T010000
END:STANDARD
BEGIN:DAYLIGHT
TZOFFSETFROM:+0100
TZOFFSETTO:+0200
TZNAME:CEST
DTSTART:20240331T010000
END:DAYLIGHT
BEGIN:STANDARD
TZOFFSETFROM:+0200
TZOFFSETTO:+0100
TZNAME:CET
DTSTART:20241027T010000
END:STANDARD
BEGIN:DAYLIGHT
TZOFFSETFROM:+0100
TZOFFSETTO:+0200
TZNAME:CEST
DTSTART:20250330T010000
END:DAYLIGHT
BEGIN:STANDARD
TZOFFSETFROM:+0200
TZOFFSETTO:+0100
TZNAME:CET
DTSTART:20251026T010000
END:STANDARD
END:VTIMEZONE
BEGIN:VEVENT
DTSTART;TZID=Europe/Paris:20240306T200000
DTEND;TZID=Europe/Paris:20240306T213000
DTSTAMP:20260421T142341
CREATED:20240224T150353Z
LAST-MODIFIED:20240224T150353Z
UID:11450-1709755200-1709760600@www.grecesurseine.fr
SUMMARY:"Questionnements" par Nikos Graikos et Tonia Makatsianou
DESCRIPTION:
URL:https://www.grecesurseine.fr/event/questionnements-par-nikos-graikos-et-tonia-makatsianou/
LOCATION:Théâtre de Nesle\, 8 rue de Nesle\, Paris\, 75006
END:VEVENT
END:VCALENDAR