BEGIN:VCALENDAR
VERSION:2.0
PRODID:-//Grèce-sur-Seine - Η Ελλάδα του Σηκουάνα - ECPv6.15.20//NONSGML v1.0//EN
CALSCALE:GREGORIAN
METHOD:PUBLISH
X-WR-CALNAME:Grèce-sur-Seine - Η Ελλάδα του Σηκουάνα
X-ORIGINAL-URL:https://www.grecesurseine.fr
X-WR-CALDESC:Évènements pour Grèce-sur-Seine - Η Ελλάδα του Σηκουάνα
REFRESH-INTERVAL;VALUE=DURATION:PT1H
X-Robots-Tag:noindex
X-PUBLISHED-TTL:PT1H
BEGIN:VTIMEZONE
TZID:Europe/Paris
BEGIN:DAYLIGHT
TZOFFSETFROM:+0100
TZOFFSETTO:+0200
TZNAME:CEST
DTSTART:20220327T010000
END:DAYLIGHT
BEGIN:STANDARD
TZOFFSETFROM:+0200
TZOFFSETTO:+0100
TZNAME:CET
DTSTART:20221030T010000
END:STANDARD
BEGIN:DAYLIGHT
TZOFFSETFROM:+0100
TZOFFSETTO:+0200
TZNAME:CEST
DTSTART:20230326T010000
END:DAYLIGHT
BEGIN:STANDARD
TZOFFSETFROM:+0200
TZOFFSETTO:+0100
TZNAME:CET
DTSTART:20231029T010000
END:STANDARD
BEGIN:DAYLIGHT
TZOFFSETFROM:+0100
TZOFFSETTO:+0200
TZNAME:CEST
DTSTART:20240331T010000
END:DAYLIGHT
BEGIN:STANDARD
TZOFFSETFROM:+0200
TZOFFSETTO:+0100
TZNAME:CET
DTSTART:20241027T010000
END:STANDARD
END:VTIMEZONE
BEGIN:VEVENT
DTSTART;TZID=Europe/Paris:20230310T120000
DTEND;TZID=Europe/Paris:20230312T190000
DTSTAMP:20260421T155303
CREATED:20230219T002540Z
LAST-MODIFIED:20230219T003034Z
UID:10000-1678449600-1678647600@www.grecesurseine.fr
SUMMARY:12ème Panorama du Cinéma Grec et Chypriote contemporain
DESCRIPTION:12ème Panorama du Cinéma Grec et Chypriote Contemporain\n  \n10-12 mars 2023\n  \nCinéma Le Grand Action\n  \nLe mois de mars sera marqué par notre rendez-vous biennal avec le cinéma\, et cette année nous annonçons une grande nouveauté ! Le Panorama accueillera également des films chypriotes et devient Panorama du Cinéma Grec et Chypriote Contemporain. Du 10 au 12 mars\, vous aurez l’occasion de découvrir la nouvelle production cinématographique grecque et chypriote qui a marqué 2021 et 2022. Nous vous proposerons des films de fiction et des documentaires qui ont été sélectionnés dans des festivals internationaux et qui reflètent la richesse de cette création contemporaine. Parmi cette sélection\, nous vous proposons des films comme Magnetic fields\, de Yorgos Goussis (sélection grecque aux Oscars 2023)\, The man with the answers de Stelios Kammitsis\, .dog de Yanna Amerikanou\, Holy Emy de Araceli Lemos\, Patchwork de Petros Charalambous et Janine Teerling\, Smyrne la bien-aimé de Grigoris Karantinakis\, ou encore Zakros de Filippos Koutsaftis et Jours et nuits de Dimitra K. de Eva Stefani. Nous vous dévoilerons bientôt le programme complet et les noms des réalisateurs qui seront présents sur le festival pour venir à votre rencontre. \nCette 12ème édition se déroulera cette année encore au cinéma Le Grand Action\, notre partenaire depuis 2018\, qui accueille également “Les rendez-vous du cinéma grec” tout au long de l’année. Le Centre du Cinéma Grec (Greek Film Centre)\, partenaire historique du Panorama du Cinéma Grec Contemporain\, sera à nouveau à nos côtés pour cette édition. \ninfos :panorama-du-film-grec-et-chypriote-contemporain \n 
URL:https://www.grecesurseine.fr/event/12eme-panorama-du-cinema-grec-et-chypriote-contemporain/
LOCATION:Cinéma Le Grand Action\, 5 rue des Ecoles\, Paris\, 75005
END:VEVENT
END:VCALENDAR